BEGIN:VCALENDAR
VERSION:2.0
PRODID:-//We Are Centurion - ECPv6.15.20//NONSGML v1.0//EN
CALSCALE:GREGORIAN
METHOD:PUBLISH
X-ORIGINAL-URL:https://wearecenturion.co.za
X-WR-CALDESC:Events for We Are Centurion
REFRESH-INTERVAL;VALUE=DURATION:PT1H
X-Robots-Tag:noindex
X-PUBLISHED-TTL:PT1H
BEGIN:VTIMEZONE
TZID:Europe/Helsinki
BEGIN:DAYLIGHT
TZOFFSETFROM:+0200
TZOFFSETTO:+0300
TZNAME:EEST
DTSTART:20250330T010000
END:DAYLIGHT
BEGIN:STANDARD
TZOFFSETFROM:+0300
TZOFFSETTO:+0200
TZNAME:EET
DTSTART:20251026T010000
END:STANDARD
BEGIN:DAYLIGHT
TZOFFSETFROM:+0200
TZOFFSETTO:+0300
TZNAME:EEST
DTSTART:20260329T010000
END:DAYLIGHT
BEGIN:STANDARD
TZOFFSETFROM:+0300
TZOFFSETTO:+0200
TZNAME:EET
DTSTART:20261025T010000
END:STANDARD
BEGIN:DAYLIGHT
TZOFFSETFROM:+0200
TZOFFSETTO:+0300
TZNAME:EEST
DTSTART:20270328T010000
END:DAYLIGHT
BEGIN:STANDARD
TZOFFSETFROM:+0300
TZOFFSETTO:+0200
TZNAME:EET
DTSTART:20271031T010000
END:STANDARD
END:VTIMEZONE
BEGIN:VEVENT
DTSTART;TZID=Europe/Helsinki:20260306T173000
DTEND;TZID=Europe/Helsinki:20260306T190000
DTSTAMP:20260419T194424
CREATED:20260305T114436Z
LAST-MODIFIED:20260305T114436Z
UID:2762-1772818200-1772823600@wearecenturion.co.za
SUMMARY:Run and Walk for Bibles
DESCRIPTION:Register online –  https://bit.ly/4aqdQ7W \nor get your ticket at the gate
URL:https://wearecenturion.co.za/event/run-and-walk-for-bibles/
LOCATION:Voortrekker Monument\, Pretoria\, Gauteng\, South Africa
ATTACH;FMTTYPE=image/jpeg:https://wearecenturion.co.za/wp-content/uploads/2026/03/WhatsApp-Image-2026-03-03-at-11.05.48-1.jpeg
END:VEVENT
BEGIN:VEVENT
DTSTART;TZID=Europe/Helsinki:20260307T090000
DTEND;TZID=Europe/Helsinki:20260307T110000
DTSTAMP:20260419T194424
CREATED:20260305T115245Z
LAST-MODIFIED:20260305T115245Z
UID:2768-1772874000-1772881200@wearecenturion.co.za
SUMMARY:e-WASTE Recycling Event
DESCRIPTION:Zero waste is not only a way of life\, but also an attitude to life and an ideal way of living. \nClear out the clutter\, almost anything with a cord !
URL:https://wearecenturion.co.za/event/e-waste-recycling-event/
LOCATION:C/O Lenchen & John Vorster\, Centurion\, Gauteng\, 0157\, South Africa
ATTACH;FMTTYPE=image/jpeg:https://wearecenturion.co.za/wp-content/uploads/2026/03/WhatsApp-Image-2026-03-03-at-11.05.47.jpeg
END:VEVENT
BEGIN:VEVENT
DTSTART;TZID=Europe/Helsinki:20260307T090000
DTEND;TZID=Europe/Helsinki:20260307T110000
DTSTAMP:20260419T194424
CREATED:20260305T115946Z
LAST-MODIFIED:20260305T120039Z
UID:2775-1772874000-1772881200@wearecenturion.co.za
SUMMARY:Recycling Day
DESCRIPTION:Glass bottles\, Paper\, Plastic\, Cardboard\, Globes\, Batteries and Cans
URL:https://wearecenturion.co.za/event/recycling-day/
LOCATION:C/O Lenchen & John Vorster\, Centurion\, Gauteng\, 0157\, South Africa
ATTACH;FMTTYPE=image/jpeg:https://wearecenturion.co.za/wp-content/uploads/2026/03/Green-recycling.jpeg
END:VEVENT
BEGIN:VEVENT
DTSTART;TZID=Europe/Helsinki:20260307T090000
DTEND;TZID=Europe/Helsinki:20260307T110000
DTSTAMP:20260419T194424
CREATED:20260305T120433Z
LAST-MODIFIED:20260305T120433Z
UID:2780-1772874000-1772881200@wearecenturion.co.za
SUMMARY:SPCA Saturday Pet Food Collection Drive
DESCRIPTION:Help fill the food bank and care for animals in need this winter. \nCat and Dog food \nWet food \nPet blankets and beds \nPet toys and treats \n 
URL:https://wearecenturion.co.za/event/spca-saturday-pet-food-collection-drive/
LOCATION:C/O Lenchen & John Vorster\, Centurion\, Gauteng\, 0157\, South Africa
ATTACH;FMTTYPE=image/jpeg:https://wearecenturion.co.za/wp-content/uploads/2026/03/WhatsApp-Image-2026-03-03-at-11.05.48-2.jpeg
END:VEVENT
BEGIN:VEVENT
DTSTART;TZID=Europe/Helsinki:20260307T090000
DTEND;TZID=Europe/Helsinki:20260307T110000
DTSTAMP:20260419T194424
CREATED:20260305T120831Z
LAST-MODIFIED:20260305T120831Z
UID:2783-1772874000-1772881200@wearecenturion.co.za
SUMMARY:Clothes To GOOD Saturday Collection Drive
DESCRIPTION:Clothing\, shoes\, accessories and bags\, toys\, linen and blankets. \nLet’s care for our environment and community.
URL:https://wearecenturion.co.za/event/clothes-to-good-saturday-collection-drive/
LOCATION:C/O Lenchen & John Vorster\, Centurion\, Gauteng\, 0157\, South Africa
END:VEVENT
BEGIN:VEVENT
DTSTART;TZID=Europe/Helsinki:20260411T190000
DTEND;TZID=Europe/Helsinki:20260411T210000
DTSTAMP:20260419T194424
CREATED:20260212T144022Z
LAST-MODIFIED:20260212T144022Z
UID:2754-1775934000-1775941200@wearecenturion.co.za
SUMMARY:Ken Jy Die Land - met Riaan en Franna
DESCRIPTION:‘n Splinternuwe vertoning\, aangebied deur “DeBende Produksies”. \nKom herleef die ikoniese Pa & Seun Duet\, Riaan en Franna Benadé.\nKom wees deel van ‘n aand vol musiek en stories vir oud en jonk. \nSaterdag\, 11 Apr 2026 | 19h00 – 21h00 (Deure open 17h00)\nKos en drinkgoed te koop op die dag \n\n\nAlgemene Toegang\nR320.00\n\n\nVIP Toegang\nR750.00
URL:https://wearecenturion.co.za/event/ken-jy-die-land-met-riaan-en-franna/
LOCATION:Weiveld Skousaal\, 1 Boschkop Road\, Zwavelpoort\, Pretoria\, Gauteng\, 0040\, South Africa
ATTACH;FMTTYPE=image/jpeg:https://wearecenturion.co.za/wp-content/uploads/2026/02/Ken-jy-die-land-11-April-2026.jpg
END:VEVENT
BEGIN:VEVENT
DTSTART;VALUE=DATE:20260807
DTEND;VALUE=DATE:20260808
DTSTAMP:20260419T194424
CREATED:20260305T122019Z
LAST-MODIFIED:20260305T122254Z
UID:2787-1786060800-1786147199@wearecenturion.co.za
SUMMARY:5th Annual National Centre for Child Protection Golf day
DESCRIPTION:R5000 per 4-ball \nIncludes: Green Fees\, Goodie Bag\, 2 x Golf Carts\, Halfway House\, Dinner. \nHole sponsorship R3000
URL:https://wearecenturion.co.za/event/5th-annual-national-centre-for-child-protection-golf-day/
LOCATION:Centurion Country Club\, Centurion Golf Estate\,\, Centurion\, Gauteng\, 0157\, South Africa
ATTACH;FMTTYPE=image/jpeg:https://wearecenturion.co.za/wp-content/uploads/2026/03/WhatsApp-Image-2026-03-04-at-10.40.56.jpeg
ORGANIZER;CN="Danie van Loggerenberg":MAILTO:danie@childprotection.co.za
END:VEVENT
END:VCALENDAR