BEGIN:VCALENDAR
VERSION:2.0
PRODID:-//We Are Centurion - ECPv6.15.20//NONSGML v1.0//EN
CALSCALE:GREGORIAN
METHOD:PUBLISH
X-WR-CALNAME:We Are Centurion
X-ORIGINAL-URL:https://wearecenturion.co.za
X-WR-CALDESC:Events for We Are Centurion
REFRESH-INTERVAL;VALUE=DURATION:PT1H
X-Robots-Tag:noindex
X-PUBLISHED-TTL:PT1H
BEGIN:VTIMEZONE
TZID:Europe/Helsinki
BEGIN:DAYLIGHT
TZOFFSETFROM:+0200
TZOFFSETTO:+0300
TZNAME:EEST
DTSTART:20230326T010000
END:DAYLIGHT
BEGIN:STANDARD
TZOFFSETFROM:+0300
TZOFFSETTO:+0200
TZNAME:EET
DTSTART:20231029T010000
END:STANDARD
BEGIN:DAYLIGHT
TZOFFSETFROM:+0200
TZOFFSETTO:+0300
TZNAME:EEST
DTSTART:20240331T010000
END:DAYLIGHT
BEGIN:STANDARD
TZOFFSETFROM:+0300
TZOFFSETTO:+0200
TZNAME:EET
DTSTART:20241027T010000
END:STANDARD
BEGIN:DAYLIGHT
TZOFFSETFROM:+0200
TZOFFSETTO:+0300
TZNAME:EEST
DTSTART:20250330T010000
END:DAYLIGHT
BEGIN:STANDARD
TZOFFSETFROM:+0300
TZOFFSETTO:+0200
TZNAME:EET
DTSTART:20251026T010000
END:STANDARD
BEGIN:DAYLIGHT
TZOFFSETFROM:+0200
TZOFFSETTO:+0300
TZNAME:EEST
DTSTART:20260329T010000
END:DAYLIGHT
BEGIN:STANDARD
TZOFFSETFROM:+0300
TZOFFSETTO:+0200
TZNAME:EET
DTSTART:20261025T010000
END:STANDARD
END:VTIMEZONE
BEGIN:VEVENT
DTSTART;TZID=Europe/Helsinki:20250723T083000
DTEND;TZID=Europe/Helsinki:20250723T090000
DTSTAMP:20260420T053212
CREATED:20250722T081727Z
LAST-MODIFIED:20250722T081954Z
UID:2358-1753259400-1753261200@wearecenturion.co.za
SUMMARY:Step Into the Boardroom.
DESCRIPTION:Step Into the Boardroom: Experience the Power of TAB in Action\nYou’re Invited\nJoin us for a Sample Board Meeting hosted by Robert Williams in collaboration with The Alternative Board (TAB) and Startup. Date: Wednesday\, 23 July 2025 Time: 8:30 AM to 9:00 AM start Location: Centurion Lake Hotel\nThis event offers a unique opportunity to experience how a TAB Board Meeting operates.\nCome and see firsthand how business owners and leaders collaborate\, solve challenges\, and support each other’s growth.\nDiscover how TAB can help you gain clarity\, make better decisions\, and grow your business with the support of like-minded leaders.\nSeats are limited – RSVP to secure your spot.\nFor more information or to confirm your attendance\, please contact:Robert Williams 0824969181\nWe look forward to welcoming you!
URL:https://wearecenturion.co.za/event/step-into-the-boardroom/
LOCATION:Gauteng
ATTACH;FMTTYPE=image/jpeg:https://wearecenturion.co.za/wp-content/uploads/2025/07/512627049_122119044416884897_5746997214745283067_n.jpg
END:VEVENT
BEGIN:VEVENT
DTSTART;TZID=Europe/Helsinki:20250719T090000
DTEND;TZID=Europe/Helsinki:20250719T120000
DTSTAMP:20260420T053212
CREATED:20250626T153459Z
LAST-MODIFIED:20250626T153719Z
UID:2249-1752915600-1752926400@wearecenturion.co.za
SUMMARY:Girl\, You’re a Masterpiece!
DESCRIPTION:Girl\, You’re a Masterpiece!\nEmpowering Teenage Girls to Embrace Their Worth \nWho is this for?\nTeenage girls age 14-17years who need a safe\, inspiring space to explore who they are\, build confidence\, and express themselves creatively. \nWhat it’s all about:\nGirl\, You’re a Masterpiece! is more than a workshop — it’s a powerful journey of self-discovery and self-worth. Through engaging sessions and hands-on creativity\, girls will be reminded that they are fearfully\, wonderfully\, and uniquely made. \nIncluded: \n🗣️Sessions on Identity\, Self Worth & Image\, Emotions\, Boundaries\, Self Care. \n🎨 Totebag painting – to express the masterpiece you are \n🍴 Brunch & Juice \n🛍️ Goodie Bag \nWhere:  \nThe Artery – Rockfields – Centurion \nTime : \n09h00 – 12h00 (We start at 09h00 – arrive latest 08h35) \n  \nLimited Seats available.
URL:https://wearecenturion.co.za/event/girl-youre-a-masterpiece/
LOCATION:The Artery  Rockfields  Centurion\, InsideOut Rockfields Corner of Tshiomate Close & Lenchen Avenue Rooihuiskraal\, Centurion\, Gauteng\, 0014\, South Africa
ORGANIZER;CN="Charlene Davids":MAILTO:N/A
END:VEVENT
BEGIN:VEVENT
DTSTART;VALUE=DATE:20250717
DTEND;VALUE=DATE:20250719
DTSTAMP:20260420T053212
CREATED:20250704T102023Z
LAST-MODIFIED:20250704T102057Z
UID:2294-1752710400-1752883199@wearecenturion.co.za
SUMMARY:Mandvol Pop-up Store
DESCRIPTION: MONDVOL POP-UP  Irene Village Mall\nSomething delicious\, exciting and full of surprises is heading your way… Mondvol is popping up at Irene Village Mall – and we cannot wait for you to see what they’ve got up their sleeves!\nAny guesses? We’re keeping tight-lipped… but trust us\, you’ll want to be there!\n Join us on 17 July for a double celebration as Mondvol pops up alongside our magical: Smurfs Character Visit Meet & greet the Smurfs (11:30 – 14:30) Face painting Our brand-new KIDS CINEMA Flashmobs\, sweet treats & so much more!\nAnd the fun doesn’t stop there – Mondvol will be back again on 18 July with even more to share!\n Two days only. Endless smiles. Unexpected surprises.\n Don’t miss it – only at Irene Village Mall!
URL:https://wearecenturion.co.za/event/mandvol-pop-up-store/
LOCATION:Mondvol-pop-up\, Cnr. Nellmapius Dr. & Van Ryneveld Ave. Irene\, Pretoria\, Gauteng\, South Africa
ATTACH;FMTTYPE=image/jpeg:https://wearecenturion.co.za/wp-content/uploads/2025/07/508747256_1129393149212712_3505195877318661656_n.jpg
END:VEVENT
BEGIN:VEVENT
DTSTART;TZID=Europe/Helsinki:20250716T100000
DTEND;TZID=Europe/Helsinki:20250716T120000
DTSTAMP:20260420T053212
CREATED:20250708T133226Z
LAST-MODIFIED:20250708T133237Z
UID:2340-1752660000-1752667200@wearecenturion.co.za
SUMMARY:BAKE\, BOND & COLOUR
DESCRIPTION:Dear Mums & Grannies\, \nJoin us for a heartwarming morning of baking\, giggles\, and colourful fun with your little ones! Whether you’re a grandma\, mom\, or special caregiver\, come roll up your sleeves and make sweet memories as we bake together and enjoy some relaxed colouring-in time.\nVENUE – Vinteage Lounge Bistro\, Cnr Clifton & North St\, Lyttelton.
URL:https://wearecenturion.co.za/event/bake-bond-colour/
LOCATION:Gauteng
ATTACH;FMTTYPE=image/jpeg:https://wearecenturion.co.za/wp-content/uploads/2025/07/WhatsApp-Image-2025-07-08-at-13.46.23_de621c8e.jpg
END:VEVENT
BEGIN:VEVENT
DTSTART;TZID=Europe/Helsinki:20250711T083000
DTEND;TZID=Europe/Helsinki:20250711T103000
DTSTAMP:20260420T053212
CREATED:20250708T133546Z
LAST-MODIFIED:20250708T133652Z
UID:2343-1752222600-1752229800@wearecenturion.co.za
SUMMARY:Business Networking\, FridayClub Centurion
DESCRIPTION:🌟 You’re Invited to a Powerful Networking Experience! 🌟\n📅 Date: Friday\, 11 July 2025\n🕘 Time: 08:30 AM – 10:30 AM\n📍 Venue: Centurion Hotel\, Centurion\, Gauteng\n🎯 Theme: “Connect. Collaborate. Grow.” \nJoin us for a dynamic morning of networking\, idea sharing\, and meaningful conversations with like-minded professionals\, entrepreneurs\, and go-getters. Whether you’re looking to grow your business\, make new connections\, or simply be inspired – this is the place to be! \n💬 What to Expect:\n✅ High-impact networking opportunities\n✅ Introduction of businesses and talents\n✅ Coffee\, conversations\, and collaboration\n✅ Inspiration from a surprise guest speaker \n🔗 RSVP Now – Seats are limited!\nReply “YES” on WhatsApp to Cobus Lubbe – Chairman 067 333 8721 \nLet’s build strong connections that create real results.\nHosted by the FridayClub Centurion
URL:https://wearecenturion.co.za/event/business-networking-fridayclub-centurion/
LOCATION:Centurion Hotel\, 1001 Lenchen Avenue North\, Centurion\, Gauteng\, 0157\, South Africa
ATTACH;FMTTYPE=image/jpeg:https://wearecenturion.co.za/wp-content/uploads/2025/07/WhatsApp-Image-2025-07-08-at-15.30.32_62a28caf.jpg
END:VEVENT
BEGIN:VEVENT
DTSTART;TZID=Europe/Helsinki:20250710T093000
DTEND;TZID=Europe/Helsinki:20250710T100000
DTSTAMP:20260420T053212
CREATED:20250704T095813Z
LAST-MODIFIED:20250704T095813Z
UID:2277-1752139800-1752141600@wearecenturion.co.za
SUMMARY:Centurion Ondersteunin
DESCRIPTION:Centurion Ondersteuningsgroep\, nooi u uit na hul maandelikse byeenkoms \nModerne Koöperasies.
URL:https://wearecenturion.co.za/event/centurion-ondersteunin/
LOCATION:Lyttelton Dienssentrum\, Potgieterstraat 81\, Lyttleton\, Centurion\, Gauteng\, 510\, South Africa
END:VEVENT
BEGIN:VEVENT
DTSTART;TZID=Europe/Helsinki:20250708T083000
DTEND;TZID=Europe/Helsinki:20250708T090000
DTSTAMP:20260420T053212
CREATED:20250626T165350Z
LAST-MODIFIED:20250626T190322Z
UID:2253-1751963400-1751965200@wearecenturion.co.za
SUMMARY:SACBW Sisterhood Breakfast
DESCRIPTION:Our Main Guest Speaker will be Charlene Davids\nCharlene Davids is passionate about helping people to become the best version of themselves. She has a particular interest in women upliftment and the next generation’s personal development.\nAfter a successfull career of 25 years in Banking\, she decided to fully commit to her passion and purpose. She naturally transitioned into a Registered Counsellor\, Certified Life Coach and Financial Coach.\nCharlene also acts as a public speaking coach and with a Degree in Ministry she finds great fulfillment in seeing people emotionally whole and living an intentional life filled with purpose.\nPlease book your seat soonest. Info on invite below👇👇👇
URL:https://wearecenturion.co.za/event/temp-untitled/
LOCATION:Centurion Hotel\, 1001 Lenchen Avenue North\, Centurion\, Gauteng\, 0157\, South Africa
END:VEVENT
BEGIN:VEVENT
DTSTART;VALUE=DATE:20250706
DTEND;VALUE=DATE:20250707
DTSTAMP:20260420T053212
CREATED:20250704T100546Z
LAST-MODIFIED:20250704T100546Z
UID:2285-1751760000-1751846399@wearecenturion.co.za
SUMMARY:2025 Missions Pretoria-Expo
DESCRIPTION:
URL:https://wearecenturion.co.za/event/2025-missions-pretoria-expo/
LOCATION:Gauteng
END:VEVENT
BEGIN:VEVENT
DTSTART;TZID=Europe/Helsinki:20250705T140000
DTEND;TZID=Europe/Helsinki:20250705T160000
DTSTAMP:20260420T053212
CREATED:20250704T105611Z
LAST-MODIFIED:20250704T105611Z
UID:2310-1751724000-1751731200@wearecenturion.co.za
SUMMARY:Immunity & Parasites
DESCRIPTION:
URL:https://wearecenturion.co.za/event/immunity-parasites/
LOCATION:Gauteng
ATTACH;FMTTYPE=image/jpeg:https://wearecenturion.co.za/wp-content/uploads/2025/07/WhatsApp-Image-2025-07-03-at-17.41.52_c425fd93.jpg
END:VEVENT
BEGIN:VEVENT
DTSTART;VALUE=DATE:20250705
DTEND;VALUE=DATE:20250706
DTSTAMP:20260420T053212
CREATED:20250704T131203Z
LAST-MODIFIED:20250704T131224Z
UID:2326-1751673600-1751759999@wearecenturion.co.za
SUMMARY:Clay Is Calling; Make Your Own Plate
DESCRIPTION:Pottery WorkshopExplore our – make your own cheese plate – workshop.\nOur team is here to guide you.\nWorkshop PricingAdults: R650\nIncludes: Instruction\, clay\, paints/glazes\, firing\, sarmie and a glass of wine or juice.\nContact Us 084 425 1321 info@arteryroom.co.za\nLet’s get creative!
URL:https://wearecenturion.co.za/event/clay-is-calling-make-your-own-plate/
LOCATION:The Artery\, Unit B12 InsideOut Campus CNR Tshiomate & Lenchen\, Rooihuiskraal North\, Centurion\, Gauteng\, 0157\, South Africa
ATTACH;FMTTYPE=image/jpeg:https://wearecenturion.co.za/wp-content/uploads/2025/07/514094896_766080336582708_7777220244639112166_n.jpg
END:VEVENT
BEGIN:VEVENT
DTSTART;TZID=Europe/Helsinki:20250704T100000
DTEND;TZID=Europe/Helsinki:20250705T110000
DTSTAMP:20260420T053212
CREATED:20250704T124957Z
LAST-MODIFIED:20250704T124957Z
UID:2314-1751623200-1751713200@wearecenturion.co.za
SUMMARY:Jan en die Boontjierank
DESCRIPTION: Jan en die Boontjierank is TERUG! \nNa UITVERKOOPTE vertonings vroeër vanjaar is hierdie mini-pantomime weer op die planke vir ’n REUSE avontuur in die Julie vakansie!\n 4 – 5 Julie 2025 10h00 R110 pp https://qkt.io/2JanBoontjierankCT25\n’n Jan maak altyd ’n plan – maar hierdie keer beland sy planne hom reguit in die sop van ’n honger reus! Kom lag saam\, sing saam en ontdek saam hoe drie towerbone ’n nuwe wêreld oopmaak vol verrassings en waardevolle lewenslesse.\nHierdie vrolike mini-pantomime is propvol musiek\, humor en storievertelling wat die jonges betrek en die oueres vermaak. Dit is die perfekte gesinsuitstappie vir die wintervakansie!\nLet wel: Sitplekke is nie bespreek nie. Die voorste stoele word verwyder sodat kinders op die vloer voor die verhoog kan sit en alles van naby beleef. Grootmense kan gemaklik agter sit.\nRegie & Teks: Tiaan Kirsten-Lubbe & Lian SachseStel & Kostuums: Ashleigh Hilton’n Scenario Productions en Die Centurion Teater aanbieding
URL:https://wearecenturion.co.za/event/jan-en-die-boontjierank/
LOCATION:JEDBJ\, 123 Amkor Road\, Centurion\, Gauteng\, 0157\, South Africa
END:VEVENT
BEGIN:VEVENT
DTSTART;TZID=Europe/Helsinki:20240523T180000
DTEND;TZID=Europe/Helsinki:20240523T180000
DTSTAMP:20260420T053212
CREATED:20240521T221849Z
LAST-MODIFIED:20240522T204935Z
UID:1109-1716487200-1716487200@wearecenturion.co.za
SUMMARY:Solidariteit Noukeurige Vakkeuses
DESCRIPTION:Is jy onseker of voel jy oorweldig deur die lang lys van vakke waaruit jou kind kan kies?\nBemagtig jouself en help jou kind om reg te kies! \nWoon op 23 Mei 2024 om 18:00 Solidariteit en ons opleidingsvennote se GRATIS #Vakkeuse-webinaar by. \nSolidariteit in samewerking met Akademia\, Sol-Tech en Bo-Karoo Opleiding bied ŉ omvattende vakkeuse-webinaar aan\, om jou en jou kind te bemagtig om die beste\, toekomsgerigte vakkeuses te maak. In dié webinaar bespreek HPCSA- gekwalifiseerde kenners die wetenskaplike proses agter vakkeuses\, en wys die verskil tussen belangstelling en aanleg wat sal bepaal watter vakke die beste by jou kind pas. \nhttps://www.facebook.com/events/289045144276257?ref=newsfeed
URL:https://wearecenturion.co.za/event/solidariteit-noukeurige-vakkeuses/
LOCATION:Gauteng
ATTACH;FMTTYPE=image/jpeg:https://wearecenturion.co.za/wp-content/uploads/2024/05/Solidariteit.jpg
END:VEVENT
BEGIN:VEVENT
DTSTART;TZID=Europe/Helsinki:20240522T180000
DTEND;TZID=Europe/Helsinki:20240522T180000
DTSTAMP:20260420T053212
CREATED:20240521T221804Z
LAST-MODIFIED:20240521T221804Z
UID:1094-1716400800-1716400800@wearecenturion.co.za
SUMMARY:Die FAK Jeugsimfonieorkes en Akademia-koor in konsert
DESCRIPTION:Die FAK Jeugsimfonieorkes en die Akademia-koor vat weer hande in die jaarlikse konsert in die Heldesaal van die Voortrekkermonument op 22 Mei onder leiding van dirigente Jaco van Staden en Franco Prinsloo.\nDie orkes en koor het in 2023 vir die eerste keer saam opgetree en is opgewonde om weer hierdie jaar ’n opwindende program van orkes en koormusiek uit te voer. \nKom ondersteun ons belowende jong talent met hierdie unieke kombinasie van koor en orkes.
URL:https://wearecenturion.co.za/event/die-fak-jeugsimfonieorkes-en-akademia-koor-in-konsert/
LOCATION:Gauteng
END:VEVENT
BEGIN:VEVENT
DTSTART;TZID=Europe/Helsinki:20240517T200000
DTEND;TZID=Europe/Helsinki:20240517T200000
DTSTAMP:20260420T053212
CREATED:20240521T221833Z
LAST-MODIFIED:20240521T221833Z
UID:1101-1715976000-1715976000@wearecenturion.co.za
SUMMARY:Drag Dinner & Show - Fun Night out
DESCRIPTION:DRAG DINNER & SHOW – FUN NIGHT OUT! \nRIRI ROUGE & GENIE WISH \n\n\n\n\n\n\n\n\n\n\n17 MEI 2024​ \n\n\n\n\n\n\n\n\n\n\nR125 PP​ \n\n\n\n\n\n\n\n\n\n\n17H30 FOR 20H00 \n\n\n\n\n\n\n\n\n\n\nAs they take you down memory lane with hits from the good old ​days with a twist of modern hits in-between\, they will have you ​dying of laughter as you enjoy a good old classic Drag Show with ​hits form Abba\, Celine Dion\, Annie Lennox\, P!nk and so much more!
URL:https://wearecenturion.co.za/event/drag-dinner-show-fun-night-out/
LOCATION:Gauteng
END:VEVENT
BEGIN:VEVENT
DTSTART;TZID=Europe/Helsinki:20240516T193000
DTEND;TZID=Europe/Helsinki:20240516T193000
DTSTAMP:20260420T053212
CREATED:20240521T221833Z
LAST-MODIFIED:20240521T221833Z
UID:1100-1715887800-1715887800@wearecenturion.co.za
SUMMARY:Vrouens - Madri Sutherland
DESCRIPTION:VROU ENS. \nMANDRI ‘VROUDRIE’ SUTHERLAND \n\n\n\n\n\n\n\n\n\n\n16 MEI 2024 \n\n\n\n\n\n\n\n\n\n\nR200 PP \n\n\n\n\n\n\n\n\n\n\n19H30 \n\n\n\n\n\n\n\n\n\n\nMandri Sutherland\, ook bekend as Vroudrie\, se eerste ​eenvroustuk is ‘n kombinasie van storievertelling en uitspattige ​karaktervertolking.
URL:https://wearecenturion.co.za/event/vrouens-madri-sutherland/
LOCATION:Gauteng
END:VEVENT
BEGIN:VEVENT
DTSTART;TZID=Europe/Helsinki:20240516T080000
DTEND;TZID=Europe/Helsinki:20240516T080000
DTSTAMP:20260420T053212
CREATED:20240521T221803Z
LAST-MODIFIED:20240521T221803Z
UID:1091-1715846400-1715846400@wearecenturion.co.za
SUMMARY:Hettie Brittz Kweek kinders met Karakter
DESCRIPTION:Hettie Brittz kom kuier die 16de Mei in Centurion met haar nuwe boek “Kweek Kinders met Karakter”. Hierdie beloof om ‘n insiggewende aand te wees propvol pret\, kennis en wysheid. Om teleurstelling te voorkom koop nou jou kaartjies by https://sentraalhand.co.za/hettie-brittz/
URL:https://wearecenturion.co.za/event/hettie-brittz-kweek-kinders-met-karakter/
LOCATION:Gauteng
END:VEVENT
BEGIN:VEVENT
DTSTART;TZID=Europe/Helsinki:20240513T100000
DTEND;TZID=Europe/Helsinki:20240513T100000
DTSTAMP:20260420T053212
CREATED:20240521T221818Z
LAST-MODIFIED:20240521T221818Z
UID:1097-1715594400-1715594400@wearecenturion.co.za
SUMMARY:Early Mother's day Paint and Wine
DESCRIPTION:Join us for this special “early” Mother’s Day Paint and Wine event on 13 May!\n…BUT..you don’t HAVE to be a Mom to join this fun event  \nWe are hosting this special event at the delightful Kappie’ccino Coffee Shop in Centurion. \nLimited seats are available\, so bookings are essential.DATE & TIME:13 May @ 10:00 amPRICE R380 VENUE:Kappie’ccino630 Ashwood DriveCenturionBOOKINGS:Email with subject line “kappie” and number of seats to:bookings@wineanddesign.co.zaHappy Painting!Saritha Behr | 082 959 4211Retha Odendaal | 079 338 3894 \nSee less
URL:https://wearecenturion.co.za/event/early-mothers-day-paint-and-wine/
LOCATION:Gauteng
END:VEVENT
BEGIN:VEVENT
DTSTART;TZID=Europe/Helsinki:20240512T160000
DTEND;TZID=Europe/Helsinki:20240512T160000
DTSTAMP:20260420T053212
CREATED:20240521T221819Z
LAST-MODIFIED:20240521T221819Z
UID:1099-1715529600-1715529600@wearecenturion.co.za
SUMMARY:Moedersdag saam Bella Voz\, Francois Boyce & Lee Berg
DESCRIPTION:MOEDERSDAG SAAM BELLA VOZ \nFRANCOIS BOYCE & LEE BERG \n\n\n\n\n\n\n\n\n\n\n12 MEI 2024 \n\n\n\n\n\n\n\n\n\n\nR200 PP \n\n\n\n\n\n\n\n\n\n\n16H00 \n\n\n\n\n\n\n\n\n\n\nFrancois Boyce\, van HoezitSamelewing faam\, en Lee Berg\, ​bekroonde kunstenaar\, pak ‘n nuwe avontuur saam aan! \n‘n Nuwe sensasionele mans duet groep genaamd Bella Voz !
URL:https://wearecenturion.co.za/event/moedersdag-saam-bella-voz-francois-boyce-lee-berg/
LOCATION:Gauteng
END:VEVENT
BEGIN:VEVENT
DTSTART;TZID=Europe/Helsinki:20240511T100000
DTEND;TZID=Europe/Helsinki:20240511T100000
DTSTAMP:20260420T053212
CREATED:20240521T221818Z
LAST-MODIFIED:20240521T221818Z
UID:1096-1715421600-1715421600@wearecenturion.co.za
SUMMARY:Waterverf klas vir Beginners
DESCRIPTION:Vreeslik.opgewonde deel ek 11Mei se klas! Ons leer waterverf tegnieke sowel as komplimentere kleure op die kleurwiel. Beperkte plek beskikbaar.  Sien die link hieronder vir meer informasie oor.hoe.die klas verloop. \nhttps://www.facebook.com/Mtjieslocks?mibextid=ZbWKwL \nBoek by Mariaan 0760384649
URL:https://wearecenturion.co.za/event/waterverf-klas-vir-beginners-2/
LOCATION:Gauteng
END:VEVENT
BEGIN:VEVENT
DTSTART;TZID=Europe/Helsinki:20240511T070000
DTEND;TZID=Europe/Helsinki:20240511T070000
DTSTAMP:20260420T053212
CREATED:20240521T221818Z
LAST-MODIFIED:20240521T221818Z
UID:1098-1715410800-1715410800@wearecenturion.co.za
SUMMARY:Street Clean-up C/O Uitsig Road & Rooihuiskraal Road
DESCRIPTION:Please join Medipark 24 this coming Saturday\, 11 May 2024\, for an hour or two to help make our community a safer and cleaner place!Start at 7:00 \nBE PART OF THE SOLUTION. \nPLEASE BRING ALONG: \nBrooms and Shovels\nTools to pick-up dirt (braai tongs)\nHand Saws\nBlack Bags and Hand Gloves \n  \nContact: Johan Avenant 072 287 4045  or   Jaco Vogel 082 788 4877
URL:https://wearecenturion.co.za/event/street-clean-up-c-o-uitsig-road-rooihuiskraal-road/
LOCATION:Gauteng
END:VEVENT
BEGIN:VEVENT
DTSTART;TZID=Europe/Helsinki:20240509T053000
DTEND;TZID=Europe/Helsinki:20240509T053000
DTSTAMP:20260420T053212
CREATED:20240521T221804Z
LAST-MODIFIED:20240521T221804Z
UID:1095-1715232600-1715232600@wearecenturion.co.za
SUMMARY:Ascension Day Service
DESCRIPTION:Join us for our annual Ascension Day Service at Thunder Ridge Spur in Centurion\, jointly hosted by CBMC – Christian Business Men’s Connection\, Mighty Watchmen Centurion\, and Basileia Patria.\nThe service will be led by Dr Thinus van Dyk (Agape in Afrika Ministries) \nCome early\, bring the whole family and fellowship with others whilst enjoying a nice warm cup of coffee! \nEnquiries: Andrew Doyle 066 218 5115 \n  \n 
URL:https://wearecenturion.co.za/event/ascension-day-service/
LOCATION:Gauteng
END:VEVENT
BEGIN:VEVENT
DTSTART;TZID=Europe/Helsinki:20240506T110000
DTEND;TZID=Europe/Helsinki:20240506T110000
DTSTAMP:20260420T053212
CREATED:20240521T221721Z
LAST-MODIFIED:20240521T221721Z
UID:1085-1714993200-1714993200@wearecenturion.co.za
SUMMARY:Mooo'se Mondays @ Irene Village Mall
DESCRIPTION:Feast your Senses: Where BIG Screens meet Foodie Scenes!!!\nYour Mondays will never be the same\, again! Coming Soon…
URL:https://wearecenturion.co.za/event/mooose-mondays-irene-village-mall/
LOCATION:Gauteng
END:VEVENT
BEGIN:VEVENT
DTSTART;TZID=Europe/Helsinki:20240504T080000
DTEND;TZID=Europe/Helsinki:20240504T080000
DTSTAMP:20260420T053212
CREATED:20240521T221647Z
LAST-MODIFIED:20240521T221647Z
UID:1071-1714809600-1714809600@wearecenturion.co.za
SUMMARY:SAAF Museum Airshow 2024
DESCRIPTION:After a successful air show in 2023- The SAAF Museum Air Show is back on the 4th May 2024. Even bigger & better at Mobile Deployment Wing Swartkop formally AFB Swartkop. Aircraft participation from both South African Air force and Museum assets as well as civilian air show display teams!\nAge Restriction: None \nTicket Prices: \n12 – 16 Years: R50.00 \nAdults: R120.00 \nProhibited Items: No weapons\, alcohol\, drugs \nPermitted Items: Camp chairs\, Umbrella’s\, camera’s \nParking: On Street \nDisabilities: Secured at north entrance \n  \n\n\n\n\nSection\n12 to 16 Years\nAdult\n\n\n\n\n12-16 Years\nR50.00\n\n\n\nAdults\n\nR120.00\n\n\n\n\nOld Johannesburg Rd\, Valhalla\, Pretoria\, 0185 \n 
URL:https://wearecenturion.co.za/event/saaf-museum-airshow-2024/
LOCATION:Gauteng
END:VEVENT
BEGIN:VEVENT
DTSTART;TZID=Europe/Helsinki:20240501T093000
DTEND;TZID=Europe/Helsinki:20240501T093000
DTSTAMP:20260420T053212
CREATED:20240521T221720Z
LAST-MODIFIED:20240521T221720Z
UID:1083-1714555800-1714555800@wearecenturion.co.za
SUMMARY:Irene Village Mall's Vintage Fair - Mother's Day Edition
DESCRIPTION:Come and celebrate the mother figures in your life with us at Irene Village Mall’s Vintage Mother’s Day Market.\n1st May – yes it’s a public holiday!\nThink hampers\, décor\, body & bath products\, jewellery\, clothing\, cashmere jerseys\, scarves\, handbags\, flowers\, tea-sets\, beautiful glasses & decanters and other craft gifting options on sale for one day only!\nWith over 80 stands filled with curated shopping Mother’s Day is going to be extra special this year.\nThose wanting to make a day of shopping & having fun\, we will be having sushi & cocktails on offer from various participating restaurants.\nA few food trucks will also have delicious food prepared & we have all our other favourite eateries on-site.\nPut it in your diary now. Only at Irene Village Mall 1st May.\nEnquiries: 063 237 0373\n\n\nFree entrance\nFree parking\nWheelchair friendly & we are pet friendly
URL:https://wearecenturion.co.za/event/irene-village-malls-vintage-fair-mothers-day-edition/
LOCATION:Gauteng
END:VEVENT
BEGIN:VEVENT
DTSTART;TZID=Europe/Helsinki:20240501T090000
DTEND;TZID=Europe/Helsinki:20240501T090000
DTSTAMP:20260420T053212
CREATED:20240521T221748Z
LAST-MODIFIED:20240521T221748Z
UID:1088-1714554000-1714554000@wearecenturion.co.za
SUMMARY:Irene Homes Annual Fete
DESCRIPTION:Are you ready for Fete 2024!\nIt is going to be one epic event!\nUndoubtedly\, our Garden Fete is one of the highlights on the Irene Homes’ calendar and by far the most rewarding way of raising funds and creating awareness\, so we again appeal to you to become part of this memorable day. We need your generous support\, your good spirit\, your passion\, and your shared love for Irene Homes to achieve our goal of serving the most vulnerable in our community!\nDate: 1 May 2024Stalls: Arts / Craft/ Beer Garden / Pre-loved items\, live entertainment and much more!Gates open: 09:00Entrance: Adults: R15 / Kids under 12: R5 \nSee less
URL:https://wearecenturion.co.za/event/irene-homes-annual-fete/
LOCATION:Gauteng
END:VEVENT
BEGIN:VEVENT
DTSTART;TZID=Europe/Helsinki:20240501T090000
DTEND;TZID=Europe/Helsinki:20240501T090000
DTSTAMP:20260420T053212
CREATED:20240521T221748Z
LAST-MODIFIED:20240521T221748Z
UID:1089-1714554000-1714554000@wearecenturion.co.za
SUMMARY:Centurion Society of Model Engeneers
DESCRIPTION:The CSME is in a clean\, safe and sevure park in the heart of Centurion.  We are a miniature railway offering train rides\, with lush tree filled Picnis areas and braai facilities plus kiddies play area.\n 
URL:https://wearecenturion.co.za/event/centurion-society-of-model-engeneers/
LOCATION:Gauteng
END:VEVENT
BEGIN:VEVENT
DTSTART;TZID=Europe/Helsinki:20240501T090000
DTEND;TZID=Europe/Helsinki:20240501T090000
DTSTAMP:20260420T053212
CREATED:20240521T221748Z
LAST-MODIFIED:20240521T221748Z
UID:1090-1714554000-1714554000@wearecenturion.co.za
SUMMARY:Pro Patria Museum Militêre Fees
DESCRIPTION:Versamelaars\, Uitstallers\, “Live Music” in Biertuin\,Kosstalletjies\, Oorlogsverhale\, Veterane Organisasies& iets vir die dames en kinders
URL:https://wearecenturion.co.za/event/pro-patria-museum-militere-fees/
LOCATION:Gauteng
END:VEVENT
BEGIN:VEVENT
DTSTART;TZID=Europe/Helsinki:20240501T090000
DTEND;TZID=Europe/Helsinki:20240501T090000
DTSTAMP:20260420T053212
CREATED:20240521T221720Z
LAST-MODIFIED:20240521T221720Z
UID:1084-1714554000-1714554000@wearecenturion.co.za
SUMMARY:Carnival at Irene Village Mall
DESCRIPTION:That’s right friends\, is back at Irene Village Mall\, and we are SO excited to share another Authentic Carnival experience\, with you\, and the rest of the family!\, in conjunction with Carnival Kingdom\, and Irene Village Mall will be here from Friday\, 26th April\, until Sunday\, 28th July.\n\nWith Authentic Carnival rides like ‘The Crazy Wave’ and ‘The Ferris Wheel’\, Authentic Carnival Game Stalls\, and Carnival Treats\, you’re in for an Authentic Carnival experience!!!\nSky RiderCrazy WaveMusic BoxFerris WheelSpace FighterDodgemsTilt-a-WhirlFun HouseSimulatorSmall HorsesSmall Swingsand SO MUCH MORE!!!!!Carnival Tickets can be purchased at the Ticket Booth\, in the Carnival Area!\n\nSee less
URL:https://wearecenturion.co.za/event/carnival-at-irene-village-mall/
LOCATION:Gauteng
END:VEVENT
BEGIN:VEVENT
DTSTART;TZID=Europe/Helsinki:20240501T080000
DTEND;TZID=Europe/Helsinki:20240501T080000
DTSTAMP:20260420T053212
CREATED:20240521T221748Z
LAST-MODIFIED:20240521T221748Z
UID:1087-1714550400-1714550400@wearecenturion.co.za
SUMMARY:Bible Journaling Workshop
DESCRIPTION:BIBLE JOURNAL Workshop ���Rediscover how to make the most of your time in God’s Word!\nJoin us on 1 May from 9h00-13h00 at Kappie’ccino for a Bible Journaling Workshop!\nSpending time in the Word is so essential\, yet we don’t always make enough time for it.\nIn this workshop we will talk about:\n�Different types of Bible Journaling and if it’s for you.�What does the Bible say about our time in the Word.�How we can make our Bible study more intentional.\n​Presented by Susan Marais from DotJournal Stationery\n​The Bible is the most wonderful book ever written. Come and rediscover a little bit of its awesomeness with us!\nR395 includes your notes and a small stationery starter pack.\nLimited spaces are available. Whatsapp 0715643991 for you booking
URL:https://wearecenturion.co.za/event/bible-journaling-workshop/
LOCATION:Gauteng
END:VEVENT
BEGIN:VEVENT
DTSTART;TZID=Europe/Helsinki:20240501T063000
DTEND;TZID=Europe/Helsinki:20240501T063000
DTSTAMP:20260420T053212
CREATED:20240521T221747Z
LAST-MODIFIED:20240521T221747Z
UID:1086-1714545000-1714545000@wearecenturion.co.za
SUMMARY:MiWay Wally Hayward Marathon
DESCRIPTION:The 2024 MiWay Wally Hayward Marathon will be hosted on the 1st of May 2024. Entries open on the 1st of January 2024.
URL:https://wearecenturion.co.za/event/miway-wally-hayward-marathon/
LOCATION:Gauteng
END:VEVENT
END:VCALENDAR